Package: omicsViewer Version: 1.8.0 Command: /Library/Frameworks/R.framework/Resources/bin/R CMD build --keep-empty-dirs --no-resave-data omicsViewer StartedAt: 2024-10-17 05:50:36 -0400 (Thu, 17 Oct 2024) EndedAt: 2024-10-17 05:51:37 -0400 (Thu, 17 Oct 2024) EllapsedTime: 60.9 seconds RetCode: 0 Status: OK PackageFile: omicsViewer_1.8.0.tar.gz PackageFileSize: 4.325 MiB