Package: omicsPrint Version: 1.24.0 Command: chmod a+r omicsPrint -R && E:\biocbuild\bbs-3.19-bioc\R\bin\R.exe CMD build --keep-empty-dirs --no-resave-data omicsPrint StartedAt: 2024-10-16 20:46:45 -0400 (Wed, 16 Oct 2024) EndedAt: 2024-10-16 20:48:04 -0400 (Wed, 16 Oct 2024) EllapsedTime: 79.1 seconds RetCode: 0 Status: OK PackageFile: omicsPrint_1.24.0.tar.gz PackageFileSize: 4.102 MiB