Package: omicsPrint Version: 1.24.0 Command: /Library/Frameworks/R.framework/Resources/bin/R CMD build --keep-empty-dirs --no-resave-data omicsPrint StartedAt: 2024-06-09 17:34:42 -0400 (Sun, 09 Jun 2024) EndedAt: 2024-06-09 17:35:46 -0400 (Sun, 09 Jun 2024) EllapsedTime: 64.0 seconds RetCode: 0 Status: OK PackageFile: omicsPrint_1.24.0.tar.gz PackageFileSize: 4.338 MiB