Package: omicsPrint Version: 1.24.0 Command: /home/biocbuild/R/R-beta-2024-04-15_r86425/bin/R CMD check --install=check:omicsPrint.install-out.txt --library=/home/biocbuild/R/R-beta-2024-04-15_r86425/site-library --no-vignettes --timings omicsPrint_1.24.0.tar.gz StartedAt: 2024-05-09 10:12:14 -0000 (Thu, 09 May 2024) EndedAt: 2024-05-09 10:15:55 -0000 (Thu, 09 May 2024) EllapsedTime: 221.4 seconds RetCode: 0 Status: WARNINGS CheckDir: omicsPrint.Rcheck Warnings: 1