Package: omicsPrint Version: 1.24.0 Command: /home/biocbuild/R/R-beta-2024-04-15_r86425/bin/R CMD build --keep-empty-dirs --no-resave-data omicsPrint StartedAt: 2024-05-09 02:12:38 -0000 (Thu, 09 May 2024) EndedAt: 2024-05-09 02:14:58 -0000 (Thu, 09 May 2024) EllapsedTime: 140.2 seconds RetCode: 0 Status: OK PackageFile: omicsPrint_1.24.0.tar.gz PackageFileSize: 4.195 MiB