Package: omicsPrint Version: 1.24.0 Command: /Library/Frameworks/R.framework/Resources/bin/R CMD check --install=check:omicsPrint.install-out.txt --library=/Library/Frameworks/R.framework/Resources/library --no-vignettes --timings omicsPrint_1.24.0.tar.gz StartedAt: 2024-10-18 06:28:01 -0400 (Fri, 18 Oct 2024) EndedAt: 2024-10-18 06:31:31 -0400 (Fri, 18 Oct 2024) EllapsedTime: 210.4 seconds RetCode: 0 Status: WARNINGS CheckDir: omicsPrint.Rcheck Warnings: 1