Package: omicplotR Version: 1.24.0 Command: /Library/Frameworks/R.framework/Resources/bin/R CMD check --install=check:omicplotR.install-out.txt --library=/Library/Frameworks/R.framework/Resources/library --no-vignettes --timings omicplotR_1.24.0.tar.gz StartedAt: 2024-10-17 10:15:13 -0400 (Thu, 17 Oct 2024) EndedAt: 2024-10-17 10:19:07 -0400 (Thu, 17 Oct 2024) EllapsedTime: 234.3 seconds RetCode: 0 Status: OK CheckDir: omicplotR.Rcheck Warnings: 0