Package: omicplotR Version: 1.24.0 Command: rm -rf omicplotR.buildbin-libdir && mkdir omicplotR.buildbin-libdir && /Users/biocbuild/BBS/utils/build-universal.sh omicplotR_1.24.0.tar.gz /Library/Frameworks/R.framework/Resources/bin/R omicplotR.buildbin-libdir StartedAt: 2024-06-11 12:23:37 -0400 (Tue, 11 Jun 2024) EndedAt: 2024-06-11 12:24:24 -0400 (Tue, 11 Jun 2024) EllapsedTime: 46.7 seconds RetCode: 0 Status: OK PackageFile: omicplotR_1.24.0.tgz PackageFileSize: 1.185 MiB