Package: omicade4 Version: 1.44.0 Command: E:\biocbuild\bbs-3.19-bioc\R\bin\R.exe CMD INSTALL omicade4 StartedAt: 2024-10-16 16:19:35 -0400 (Wed, 16 Oct 2024) EndedAt: 2024-10-16 16:20:02 -0400 (Wed, 16 Oct 2024) EllapsedTime: 26.5 seconds RetCode: 0 Status: OK