Package: omicade4 Version: 1.44.0 Command: rm -rf omicade4.buildbin-libdir && mkdir omicade4.buildbin-libdir && E:\biocbuild\bbs-3.19-bioc\R\bin\R.exe CMD INSTALL --build --library=omicade4.buildbin-libdir omicade4_1.44.0.tar.gz StartedAt: 2024-10-17 08:17:05 -0400 (Thu, 17 Oct 2024) EndedAt: 2024-10-17 08:17:34 -0400 (Thu, 17 Oct 2024) EllapsedTime: 28.7 seconds RetCode: 0 Status: OK PackageFile: omicade4_1.44.0.zip PackageFileSize: 617.5 KiB