Package: omicade4 Version: 1.44.0 Command: /Library/Frameworks/R.framework/Resources/bin/R CMD build --keep-empty-dirs --no-resave-data omicade4 StartedAt: 2024-10-16 21:42:24 -0400 (Wed, 16 Oct 2024) EndedAt: 2024-10-16 21:43:50 -0400 (Wed, 16 Oct 2024) EllapsedTime: 85.7 seconds RetCode: 0 Status: OK PackageFile: omicade4_1.44.0.tar.gz PackageFileSize: 544.3 KiB