Package: omicade4 Version: 1.44.0 Command: rm -rf omicade4.buildbin-libdir && mkdir omicade4.buildbin-libdir && /Users/biocbuild/BBS/utils/build-universal.sh omicade4_1.44.0.tar.gz /Library/Frameworks/R.framework/Resources/bin/R omicade4.buildbin-libdir StartedAt: 2024-10-17 16:45:45 -0400 (Thu, 17 Oct 2024) EndedAt: 2024-10-17 16:46:37 -0400 (Thu, 17 Oct 2024) EllapsedTime: 52.8 seconds RetCode: 0 Status: OK PackageFile: omicade4_1.44.0.tgz PackageFileSize: 612.1 KiB