Package: omicade4 Version: 1.44.0 Command: /Library/Frameworks/R.framework/Resources/bin/R CMD check --install=check:omicade4.install-out.txt --library=/Library/Frameworks/R.framework/Resources/library --no-vignettes --timings omicade4_1.44.0.tar.gz StartedAt: 2024-10-18 06:25:04 -0400 (Fri, 18 Oct 2024) EndedAt: 2024-10-18 06:28:01 -0400 (Fri, 18 Oct 2024) EllapsedTime: 176.5 seconds RetCode: 0 Status: OK CheckDir: omicade4.Rcheck Warnings: 0