Package: omicRexposome Version: 1.26.0 Command: chmod a+r omicRexposome -R && E:\biocbuild\bbs-3.19-bioc\R\bin\R.exe CMD build --keep-empty-dirs --no-resave-data omicRexposome StartedAt: 2024-10-16 20:46:33 -0400 (Wed, 16 Oct 2024) EndedAt: 2024-10-16 21:26:10 -0400 (Wed, 16 Oct 2024) EllapsedTime: 2377.2 seconds RetCode: 0 Status: OK PackageFile: omicRexposome_1.26.0.tar.gz PackageFileSize: 1.903 MiB