Package: omicRexposome Version: 1.26.0 Command: /Library/Frameworks/R.framework/Resources/bin/R CMD build --keep-empty-dirs --no-resave-data omicRexposome StartedAt: 2024-06-09 17:34:39 -0400 (Sun, 09 Jun 2024) EndedAt: 2024-06-09 17:47:26 -0400 (Sun, 09 Jun 2024) EllapsedTime: 767.2 seconds RetCode: 0 Status: OK PackageFile: omicRexposome_1.26.0.tar.gz PackageFileSize: 2.623 MiB