Package: omicRexposome Version: 1.26.0 Command: /home/biocbuild/R/R-beta-2024-04-15_r86425/bin/R CMD build --keep-empty-dirs --no-resave-data omicRexposome StartedAt: 2024-05-09 02:12:36 -0000 (Thu, 09 May 2024) EndedAt: 2024-05-09 02:29:04 -0000 (Thu, 09 May 2024) EllapsedTime: 988.4 seconds RetCode: 0 Status: OK PackageFile: omicRexposome_1.26.0.tar.gz PackageFileSize: 1.921 MiB