Package: omicRexposome Version: 1.26.0 Command: rm -rf omicRexposome.buildbin-libdir && mkdir omicRexposome.buildbin-libdir && /Users/biocbuild/BBS/utils/build-universal.sh omicRexposome_1.26.0.tar.gz /Library/Frameworks/R.framework/Resources/bin/R omicRexposome.buildbin-libdir StartedAt: 2024-10-18 19:49:03 -0400 (Fri, 18 Oct 2024) EndedAt: 2024-10-18 19:50:10 -0400 (Fri, 18 Oct 2024) EllapsedTime: 67.0 seconds RetCode: 0 Status: OK PackageFile: omicRexposome_1.26.0.tgz PackageFileSize: 2.919 MiB