Package: omada Version: 1.6.0 Command: /home/biocbuild/bbs-3.19-bioc/R/bin/R CMD build --keep-empty-dirs --no-resave-data omada StartedAt: 2024-10-16 19:51:15 -0400 (Wed, 16 Oct 2024) EndedAt: 2024-10-16 19:53:53 -0400 (Wed, 16 Oct 2024) EllapsedTime: 157.4 seconds RetCode: 0 Status: OK PackageFile: omada_1.6.0.tar.gz PackageFileSize: 158 KiB