Package: omada Version: 1.6.0 Command: /Library/Frameworks/R.framework/Resources/bin/R CMD build --keep-empty-dirs --no-resave-data omada StartedAt: 2024-10-16 21:42:03 -0400 (Wed, 16 Oct 2024) EndedAt: 2024-10-16 21:46:05 -0400 (Wed, 16 Oct 2024) EllapsedTime: 242.2 seconds RetCode: 0 Status: OK PackageFile: omada_1.6.0.tar.gz PackageFileSize: 201.5 KiB