Package: omada Version: 1.6.0 Command: /Library/Frameworks/R.framework/Resources/bin/R CMD build --keep-empty-dirs --no-resave-data omada StartedAt: 2024-06-09 17:34:10 -0400 (Sun, 09 Jun 2024) EndedAt: 2024-06-09 17:36:16 -0400 (Sun, 09 Jun 2024) EllapsedTime: 126.4 seconds RetCode: 0 Status: OK PackageFile: omada_1.6.0.tar.gz PackageFileSize: 201.1 KiB