Package: omada Version: 1.6.0 Command: /home/biocbuild/R/R-beta-2024-04-15_r86425/bin/R CMD check --install=check:omada.install-out.txt --library=/home/biocbuild/R/R-beta-2024-04-15_r86425/site-library --no-vignettes --timings omada_1.6.0.tar.gz StartedAt: 2024-05-09 10:09:59 -0000 (Thu, 09 May 2024) EndedAt: 2024-05-09 10:23:49 -0000 (Thu, 09 May 2024) EllapsedTime: 830.6 seconds RetCode: 0 Status: OK CheckDir: omada.Rcheck Warnings: 0