Package: omada Version: 1.6.0 Command: rm -rf omada.buildbin-libdir && mkdir omada.buildbin-libdir && /Users/biocbuild/BBS/utils/build-universal.sh omada_1.6.0.tar.gz /Library/Frameworks/R.framework/Resources/bin/R omada.buildbin-libdir StartedAt: 2024-06-11 12:23:04 -0400 (Tue, 11 Jun 2024) EndedAt: 2024-06-11 12:23:27 -0400 (Tue, 11 Jun 2024) EllapsedTime: 23.3 seconds RetCode: 0 Status: OK PackageFile: omada_1.6.0.tgz PackageFileSize: 302.8 KiB