Package: oligoClasses Version: 1.66.0 Command: E:\biocbuild\bbs-3.19-bioc\R\bin\R.exe CMD INSTALL oligoClasses StartedAt: 2024-10-16 16:18:46 -0400 (Wed, 16 Oct 2024) EndedAt: 2024-10-16 16:20:55 -0400 (Wed, 16 Oct 2024) EllapsedTime: 128.8 seconds RetCode: 0 Status: OK