Package: oligoClasses Version: 1.66.0 Command: E:\biocbuild\bbs-3.19-bioc\R\bin\R.exe CMD check --no-multiarch --install=check:oligoClasses.install-out.txt --library=E:\biocbuild\bbs-3.19-bioc\R\library --no-vignettes --timings oligoClasses_1.66.0.tar.gz StartedAt: 2024-10-17 04:03:40 -0400 (Thu, 17 Oct 2024) EndedAt: 2024-10-17 04:07:58 -0400 (Thu, 17 Oct 2024) EllapsedTime: 257.9 seconds RetCode: 0 Status: WARNINGS CheckDir: oligoClasses.Rcheck Warnings: 3