Package: oligoClasses Version: 1.66.0 Command: chmod a+r oligoClasses -R && F:\biocbuild\bbs-3.19-bioc\R\bin\R.exe CMD build --keep-empty-dirs --no-resave-data oligoClasses StartedAt: 2024-06-26 20:34:47 -0400 (Wed, 26 Jun 2024) EndedAt: 2024-06-26 20:34:52 -0400 (Wed, 26 Jun 2024) EllapsedTime: 5.0 seconds RetCode: 0 Status: OK PackageFile: oligoClasses_1.66.0.tar.gz PackageFileSize: 364.5 KiB