Package: oligoClasses Version: 1.66.0 Command: /home/biocbuild/bbs-3.19-bioc/R/bin/R CMD check --install=check:oligoClasses.install-out.txt --library=/home/biocbuild/bbs-3.19-bioc/R/site-library --timings oligoClasses_1.66.0.tar.gz StartedAt: 2024-10-17 03:11:52 -0400 (Thu, 17 Oct 2024) EndedAt: 2024-10-17 03:15:27 -0400 (Thu, 17 Oct 2024) EllapsedTime: 214.5 seconds RetCode: 0 Status: WARNINGS CheckDir: oligoClasses.Rcheck Warnings: 3