Package: oligoClasses Version: 1.66.0 Command: /Library/Frameworks/R.framework/Resources/bin/R CMD check --install=check:oligoClasses.install-out.txt --library=/Library/Frameworks/R.framework/Resources/library --no-vignettes --timings oligoClasses_1.66.0.tar.gz StartedAt: 2024-10-17 10:12:57 -0400 (Thu, 17 Oct 2024) EndedAt: 2024-10-17 10:21:33 -0400 (Thu, 17 Oct 2024) EllapsedTime: 516.1 seconds RetCode: 0 Status: WARNINGS CheckDir: oligoClasses.Rcheck Warnings: 3