Package: oligoClasses Version: 1.66.0 Command: rm -rf oligoClasses.buildbin-libdir && mkdir oligoClasses.buildbin-libdir && /Users/biocbuild/BBS/utils/build-universal.sh oligoClasses_1.66.0.tar.gz /Library/Frameworks/R.framework/Resources/bin/R oligoClasses.buildbin-libdir StartedAt: 2024-10-17 16:45:29 -0400 (Thu, 17 Oct 2024) EndedAt: 2024-10-17 16:47:09 -0400 (Thu, 17 Oct 2024) EllapsedTime: 100.2 seconds RetCode: 0 Status: OK PackageFile: oligoClasses_1.66.0.tgz PackageFileSize: 1.358 MiB