Package: oligoClasses Version: 1.66.0 Command: /home/biocbuild/R/R-beta-2024-04-15_r86425/bin/R CMD build --keep-empty-dirs --no-resave-data oligoClasses StartedAt: 2024-05-09 02:11:50 -0000 (Thu, 09 May 2024) EndedAt: 2024-05-09 02:11:52 -0000 (Thu, 09 May 2024) EllapsedTime: 2.0 seconds RetCode: 0 Status: OK PackageFile: oligoClasses_1.66.0.tar.gz PackageFileSize: 364.6 KiB