Package: oligoClasses Version: 1.66.0 Command: /Library/Frameworks/R.framework/Resources/bin/R CMD check --install=check:oligoClasses.install-out.txt --library=/Library/Frameworks/R.framework/Resources/library --no-vignettes --timings oligoClasses_1.66.0.tar.gz StartedAt: 2024-10-18 06:18:59 -0400 (Fri, 18 Oct 2024) EndedAt: 2024-10-18 06:23:33 -0400 (Fri, 18 Oct 2024) EllapsedTime: 273.8 seconds RetCode: 0 Status: WARNINGS CheckDir: oligoClasses.Rcheck Warnings: 3