Package: oligoClasses Version: 1.66.0 Command: /Library/Frameworks/R.framework/Resources/bin/R CMD build --keep-empty-dirs --no-resave-data oligoClasses StartedAt: 2024-10-17 05:47:56 -0400 (Thu, 17 Oct 2024) EndedAt: 2024-10-17 05:47:58 -0400 (Thu, 17 Oct 2024) EllapsedTime: 2.2 seconds RetCode: 0 Status: OK PackageFile: oligoClasses_1.66.0.tar.gz PackageFileSize: 364.6 KiB