Package: oligoClasses Version: 1.66.0 Maintainer: Benilton Carvalho and Robert Scharpf MaintainerEmail: rscharpf at jhsph.edu git_url: https://git.bioconductor.org/packages/oligoClasses git_branch: RELEASE_3_19 git_last_commit: 9f85621 git_last_commit_date: 2024-04-30 10:17:18 -0400 (Tue, 30 Apr 2024)