Package: oligo Version: 1.68.2 Command: F:\biocbuild\bbs-3.19-bioc\R\bin\R.exe CMD check --no-multiarch --install=check:oligo.install-out.txt --library=F:\biocbuild\bbs-3.19-bioc\R\library --no-vignettes --timings oligo_1.68.2.tar.gz StartedAt: 2024-06-27 04:19:24 -0400 (Thu, 27 Jun 2024) EndedAt: 2024-06-27 04:29:11 -0400 (Thu, 27 Jun 2024) EllapsedTime: 587.0 seconds RetCode: 0 Status: WARNINGS CheckDir: oligo.Rcheck Warnings: 4