Package: oligo Version: 1.68.2 Command: chmod a+r oligo -R && F:\biocbuild\bbs-3.19-bioc\R\bin\R.exe CMD build --keep-empty-dirs --no-resave-data oligo StartedAt: 2024-06-26 20:34:44 -0400 (Wed, 26 Jun 2024) EndedAt: 2024-06-26 20:35:47 -0400 (Wed, 26 Jun 2024) EllapsedTime: 63.1 seconds RetCode: 0 Status: OK PackageFile: oligo_1.68.2.tar.gz PackageFileSize: 27.1 MiB