Package: oligo Version: 1.68.2 Command: /home/biocbuild/bbs-3.19-bioc/R/bin/R CMD INSTALL oligo StartedAt: 2024-10-16 16:01:10 -0400 (Wed, 16 Oct 2024) EndedAt: 2024-10-16 16:01:42 -0400 (Wed, 16 Oct 2024) EllapsedTime: 32.1 seconds RetCode: 0 Status: OK