Package: oligo Version: 1.68.2 Command: /home/biocbuild/bbs-3.19-bioc/R/bin/R CMD check --install=check:oligo.install-out.txt --library=/home/biocbuild/bbs-3.19-bioc/R/site-library --timings oligo_1.68.2.tar.gz StartedAt: 2024-10-17 03:11:32 -0400 (Thu, 17 Oct 2024) EndedAt: 2024-10-17 03:17:04 -0400 (Thu, 17 Oct 2024) EllapsedTime: 331.8 seconds RetCode: 0 Status: WARNINGS CheckDir: oligo.Rcheck Warnings: 4