Package: oligo Version: 1.68.2 Command: /Library/Frameworks/R.framework/Resources/bin/R CMD check --install=check:oligo.install-out.txt --library=/Library/Frameworks/R.framework/Resources/library --no-vignettes --timings oligo_1.68.2.tar.gz StartedAt: 2024-10-17 10:12:40 -0400 (Thu, 17 Oct 2024) EndedAt: 2024-10-17 10:24:40 -0400 (Thu, 17 Oct 2024) EllapsedTime: 720.4 seconds RetCode: 0 Status: WARNINGS CheckDir: oligo.Rcheck Warnings: 4