Package: oligo Version: 1.68.2 Command: /Library/Frameworks/R.framework/Resources/bin/R CMD build --keep-empty-dirs --no-resave-data oligo StartedAt: 2024-06-10 01:51:42 -0400 (Mon, 10 Jun 2024) EndedAt: 2024-06-10 01:52:40 -0400 (Mon, 10 Jun 2024) EllapsedTime: 58.0 seconds RetCode: 0 Status: OK PackageFile: oligo_1.68.2.tar.gz PackageFileSize: 27.1 MiB