Package: odseq Version: 1.32.0 Command: /Library/Frameworks/R.framework/Resources/bin/R CMD build --keep-empty-dirs --no-resave-data odseq StartedAt: 2024-10-16 21:41:12 -0400 (Wed, 16 Oct 2024) EndedAt: 2024-10-16 21:42:51 -0400 (Wed, 16 Oct 2024) EllapsedTime: 99.6 seconds RetCode: 0 Status: OK PackageFile: odseq_1.32.0.tar.gz PackageFileSize: 229.6 KiB