Package: odseq Version: 1.32.0 Command: /Library/Frameworks/R.framework/Resources/bin/R CMD build --keep-empty-dirs --no-resave-data odseq StartedAt: 2024-10-17 05:46:10 -0400 (Thu, 17 Oct 2024) EndedAt: 2024-10-17 05:46:54 -0400 (Thu, 17 Oct 2024) EllapsedTime: 43.9 seconds RetCode: 0 Status: OK PackageFile: odseq_1.32.0.tar.gz PackageFileSize: 229.6 KiB