Package: octad Version: 1.6.0 Command: E:\biocbuild\bbs-3.19-bioc\R\bin\R.exe CMD INSTALL octad StartedAt: 2024-10-16 17:12:12 -0400 (Wed, 16 Oct 2024) EndedAt: 2024-10-16 17:13:19 -0400 (Wed, 16 Oct 2024) EllapsedTime: 66.9 seconds RetCode: 0 Status: OK