Package: octad Version: 1.6.0 Command: /Library/Frameworks/R.framework/Resources/bin/R CMD build --keep-empty-dirs --no-resave-data octad StartedAt: 2024-10-16 21:41:10 -0400 (Wed, 16 Oct 2024) EndedAt: 2024-10-16 21:51:23 -0400 (Wed, 16 Oct 2024) EllapsedTime: 612.9 seconds RetCode: 0 Status: OK PackageFile: octad_1.6.0.tar.gz PackageFileSize: 1.311 MiB