Package: occugene Version: 1.64.0 Command: rm -rf occugene.buildbin-libdir && mkdir occugene.buildbin-libdir && E:\biocbuild\bbs-3.19-bioc\R\bin\R.exe CMD INSTALL --build --library=occugene.buildbin-libdir occugene_1.64.0.tar.gz StartedAt: 2024-10-17 08:16:43 -0400 (Thu, 17 Oct 2024) EndedAt: 2024-10-17 08:16:51 -0400 (Thu, 17 Oct 2024) EllapsedTime: 8.1 seconds RetCode: 0 Status: OK PackageFile: occugene_1.64.0.zip PackageFileSize: 159.5 KiB