Package: occugene Version: 1.64.0 Command: rm -rf occugene.buildbin-libdir && mkdir occugene.buildbin-libdir && F:\biocbuild\bbs-3.19-bioc\R\bin\R.exe CMD INSTALL --build --library=occugene.buildbin-libdir occugene_1.64.0.tar.gz StartedAt: 2024-06-27 08:36:44 -0400 (Thu, 27 Jun 2024) EndedAt: 2024-06-27 08:37:00 -0400 (Thu, 27 Jun 2024) EllapsedTime: 16.3 seconds RetCode: 0 Status: OK PackageFile: occugene_1.64.0.zip PackageFileSize: 159.1 KiB