Package: occugene Version: 1.64.0 Command: rm -rf occugene.buildbin-libdir && mkdir occugene.buildbin-libdir && /Users/biocbuild/BBS/utils/build-universal.sh occugene_1.64.0.tar.gz /Library/Frameworks/R.framework/Resources/bin/R occugene.buildbin-libdir StartedAt: 2024-06-10 00:30:24 -0400 (Mon, 10 Jun 2024) EndedAt: 2024-06-10 00:30:30 -0400 (Mon, 10 Jun 2024) EllapsedTime: 5.6 seconds RetCode: 0 Status: OK PackageFile: occugene_1.64.0.tgz PackageFileSize: 251.5 KiB