Package: occugene Version: 1.64.0 Command: /home/biocbuild/R/R-beta-2024-04-15_r86425/bin/R CMD check --install=check:occugene.install-out.txt --library=/home/biocbuild/R/R-beta-2024-04-15_r86425/site-library --no-vignettes --timings occugene_1.64.0.tar.gz StartedAt: 2024-05-09 10:08:43 -0000 (Thu, 09 May 2024) EndedAt: 2024-05-09 10:09:05 -0000 (Thu, 09 May 2024) EllapsedTime: 22.0 seconds RetCode: 0 Status: OK CheckDir: occugene.Rcheck Warnings: 0