Package: occugene Version: 1.64.0 Command: /Library/Frameworks/R.framework/Resources/bin/R CMD check --install=check:occugene.install-out.txt --library=/Library/Frameworks/R.framework/Resources/library --no-vignettes --timings occugene_1.64.0.tar.gz StartedAt: 2024-06-11 00:04:54 -0400 (Tue, 11 Jun 2024) EndedAt: 2024-06-11 00:05:39 -0400 (Tue, 11 Jun 2024) EllapsedTime: 44.1 seconds RetCode: 0 Status: OK CheckDir: occugene.Rcheck Warnings: 0