Package: occugene Version: 1.64.0 Command: /Library/Frameworks/R.framework/Resources/bin/R CMD build --keep-empty-dirs --no-resave-data occugene StartedAt: 2024-06-10 01:49:57 -0400 (Mon, 10 Jun 2024) EndedAt: 2024-06-10 01:50:11 -0400 (Mon, 10 Jun 2024) EllapsedTime: 14.1 seconds RetCode: 0 Status: OK PackageFile: occugene_1.64.0.tar.gz PackageFileSize: 194.5 KiB