Package: occugene Version: 1.64.0 Command: /Library/Frameworks/R.framework/Resources/bin/R CMD check --install=check:occugene.install-out.txt --library=/Library/Frameworks/R.framework/Resources/library --no-vignettes --timings occugene_1.64.0.tar.gz StartedAt: 2024-10-18 06:14:19 -0400 (Fri, 18 Oct 2024) EndedAt: 2024-10-18 06:14:48 -0400 (Fri, 18 Oct 2024) EllapsedTime: 29.5 seconds RetCode: 0 Status: OK CheckDir: occugene.Rcheck Warnings: 0