Package: occugene Version: 1.64.0 Command: rm -rf occugene.buildbin-libdir && mkdir occugene.buildbin-libdir && /Users/biocbuild/BBS/utils/build-universal.sh occugene_1.64.0.tar.gz /Library/Frameworks/R.framework/Resources/bin/R occugene.buildbin-libdir StartedAt: 2024-10-18 19:47:30 -0400 (Fri, 18 Oct 2024) EndedAt: 2024-10-18 19:47:35 -0400 (Fri, 18 Oct 2024) EllapsedTime: 5.5 seconds RetCode: 0 Status: OK PackageFile: occugene_1.64.0.tgz PackageFileSize: 252.3 KiB